BEGIN:VCALENDAR
VERSION:2.0
PRODID:-//Virginia Workers&#039; Compensation American Inn of Court - ECPv6.7.1//NONSGML v1.0//EN
CALSCALE:GREGORIAN
METHOD:PUBLISH
X-WR-CALNAME:Virginia Workers&#039; Compensation American Inn of Court
X-ORIGINAL-URL:https://compinnofcourt.com
X-WR-CALDESC:Events for Virginia Workers&#039; Compensation American Inn of Court
REFRESH-INTERVAL;VALUE=DURATION:PT1H
X-Robots-Tag:noindex
X-PUBLISHED-TTL:PT1H
BEGIN:VTIMEZONE
TZID:UTC
BEGIN:STANDARD
TZOFFSETFROM:+0000
TZOFFSETTO:+0000
TZNAME:UTC
DTSTART:20240101T000000
END:STANDARD
END:VTIMEZONE
BEGIN:VEVENT
DTSTART;TZID=UTC:20240506T080000
DTEND;TZID=UTC:20240506T170000
DTSTAMP:20260419T201752
CREATED:20240506T125255Z
LAST-MODIFIED:20240507T032619Z
UID:1347-1714982400-1715014800@compinnofcourt.com
SUMMARY:2024 Conference
DESCRIPTION:IOC 2024 Conference agenda \n 
URL:https://compinnofcourt.com/event/2024-conference/
END:VEVENT
END:VCALENDAR